BEGIN:VCALENDAR
VERSION:2.0
PRODID:-//Tukios.com/
BEGIN:VEVENT
UID:e320a2b5-7925-4f4f-b222-8bf81f7f52cd@altogether.tukios-sandbox.com
DTSTAMP:20260422T172838Z
DTSTART:20260424T150000Z
DTEND:20260424T160000Z
SUMMARY:Jim's Graveside Service
DESCRIPTION:
URL:https://altogether.tukios-sandbox.com/altogether/orlando-florida/obituaries/launch-demo/february-2026
LOCATION: 1300 Bruton Blvd.  Orlando FL 32805
GEO:28.5383832;-81.3789269
END:VEVENT
END:VCALENDAR