BEGIN:VCALENDAR
VERSION:2.0
PRODID:-//Tukios.com/
BEGIN:VEVENT
UID:c25379dd-d9b4-4a45-ad82-f6ad74a26771@altogether.tukios-sandbox.com
DTSTAMP:20260421T170117Z
DTSTART:20260424T140000Z
DTEND:20260424T150000Z
SUMMARY:Celebration of Life
DESCRIPTION:
URL:https://altogether.tukios-sandbox.com/launch-demo
LOCATION: 1008 Madison Avenue  Fort Atkinson WI 53538
GEO:42.9354498;-88.8507178
END:VEVENT
END:VCALENDAR